BEGIN:VCALENDAR
VERSION:2.0
PRODID:-//Pulsschlag-Dorstfeld - ECPv6.8.2.1//NONSGML v1.0//EN
CALSCALE:GREGORIAN
METHOD:PUBLISH
X-WR-CALNAME:Pulsschlag-Dorstfeld
X-ORIGINAL-URL:https://pulsschlag-dorstfeld.de
X-WR-CALDESC:Veranstaltungen für Pulsschlag-Dorstfeld
REFRESH-INTERVAL;VALUE=DURATION:PT1H
X-Robots-Tag:noindex
X-PUBLISHED-TTL:PT1H
BEGIN:VTIMEZONE
TZID:Europe/Berlin
BEGIN:DAYLIGHT
TZOFFSETFROM:+0100
TZOFFSETTO:+0200
TZNAME:CEST
DTSTART:20240331T010000
END:DAYLIGHT
BEGIN:STANDARD
TZOFFSETFROM:+0200
TZOFFSETTO:+0100
TZNAME:CET
DTSTART:20241027T010000
END:STANDARD
END:VTIMEZONE
BEGIN:VEVENT
DTSTART;TZID=Europe/Berlin:20240416T180000
DTEND;TZID=Europe/Berlin:20240416T193000
DTSTAMP:20260421T232842
CREATED:20240405T183849Z
LAST-MODIFIED:20240405T184318Z
UID:10002832-1713290400-1713295800@pulsschlag-dorstfeld.de
SUMMARY:Grüner Anstrich - Braune Wurzeln
DESCRIPTION:+++ Grüner Anstrich\, braune Wurzeln – Rechtsextreme in der Naturschutzszene +++\nRechtsextremismus findet sich auch in der Umwelt- und Naturschutzszene. Doch welche konkreten Verknüpfungen von Naturschutz mit rechtsextremen Ideologien bestehen und welche Möglichkeiten gibt es\, diese Bezüge zu Naturschutzthemen zu erkennen\, zu benennen und fundierte Gegenargumente zu entwickeln?\nAntworten auf diese und weitere Fragen gibt es am Dienstag\, den 16.04. (18:00 – 19:30 Uhr) von FARN – Fachstelle Radikalisierungsprävention und Engagement im Naturschutz im DBG Dorstfelder Bürgerhaus Genossenschaft (Vogelpothsweg 15\, 44149 Dortmund).\nVeranstalter: SuPraStadt\nWir freuen uns auf Euch!
URL:https://pulsschlag-dorstfeld.de/event/gruener-anstrich-braune-wurzeln/
LOCATION:Pulsschlag Dorstfeld\, Vogelpothsweg 15\, Dortmund\, Deutschland
ATTACH;FMTTYPE=image/png:https://pulsschlag-dorstfeld.de/wp-content/uploads/2024/04/Flyer_Vorderseite.png
END:VEVENT
BEGIN:VEVENT
DTSTART;TZID=Europe/Berlin:20240416T150000
DTEND;TZID=Europe/Berlin:20240416T180000
DTSTAMP:20260421T232842
CREATED:20240723T145719Z
LAST-MODIFIED:20251027T191531Z
UID:10003332-1713279600-1713290400@pulsschlag-dorstfeld.de
SUMMARY:Dienstagscafé im PULSSCHLAG Dorstfeld
DESCRIPTION:Jetzt jede Woche Dienstagscafé im PULSSCHLAG Bürgerhaus Dorstfeld von 15 bis 18 Uhr \nImmer mit vielen leckeren selbstgebackenen Torten und natürlich mit Jacobskaffee und Milch-Kakao\, Tee und Kaltgetränken. \nKommt vorbei im PULSSCHLAG am Vogelpothsweg 15 in Dorstfeld!
URL:https://pulsschlag-dorstfeld.de/event/dienstagscafe-im-pulsschlag-dorstfeld/2024-04-16/
LOCATION:Pulsschlag Dorstfeld\, Vogelpothsweg 15\, Dortmund\, Deutschland
ATTACH;FMTTYPE=image/jpeg:https://pulsschlag-dorstfeld.de/wp-content/uploads/2024/07/Kopie-von-Aussensprechstunde-Seniorenbuero-1609.jpg
END:VEVENT
BEGIN:VEVENT
DTSTART;TZID=Europe/Berlin:20240416T150000
DTEND;TZID=Europe/Berlin:20240416T180000
DTSTAMP:20260421T232842
CREATED:20230714T130239Z
LAST-MODIFIED:20231230T120538Z
UID:10000875-1713279600-1713290400@pulsschlag-dorstfeld.de
SUMMARY:Dienstagscafé im PULSSCHLAG Dorstfeld
DESCRIPTION:Jetzt jede Woche Dienstagscafé im PULSSCHLAG Bürgerhaus Dorstfeld von 15 bis 18 Uhr \nImmer mit vielen leckeren selbstgebackenen Torten und natürlich mit Jacobskaffee und Milch-Kakao\, Tee und Kaltgetränken. \nKommt vorbei im PULSSCHLAG am Vogelpothsweg 15 in Dorstfeld!
URL:https://pulsschlag-dorstfeld.de/event/dienstagscafe/2024-04-16/
LOCATION:Pulsschlag Dorstfeld\, Vogelpothsweg 15\, Dortmund\, Deutschland
ATTACH;FMTTYPE=image/jpeg:https://pulsschlag-dorstfeld.de/wp-content/uploads/2023/07/IMG_9573-scaled.jpeg
END:VEVENT
BEGIN:VEVENT
DTSTART;TZID=Europe/Berlin:20240411T180000
DTEND;TZID=Europe/Berlin:20240411T180000
DTSTAMP:20260421T232842
CREATED:20240328T190438Z
LAST-MODIFIED:20241113T170506Z
UID:10002828-1712858400-1712858400@pulsschlag-dorstfeld.de
SUMMARY:Vereinskneipe
DESCRIPTION:Hier treffen sich Vereine\, um den Austausch zu suchen. Neben der einzigartigen Atmosphäre im Pulsschlag\, können die Besucher heiße und kalte Getränke genießen. Demnächst jeden Donnerstag im Bürgerhaus.
URL:https://pulsschlag-dorstfeld.de/event/vereinskneipe-2-2-2/2024-04-11/
LOCATION:Pulsschlag Dorstfeld\, Vogelpothsweg 15\, Dortmund\, Deutschland
ATTACH;FMTTYPE=image/jpeg:https://pulsschlag-dorstfeld.de/wp-content/uploads/2023/07/IMG_9151-scaled.jpeg
END:VEVENT
BEGIN:VEVENT
DTSTART;TZID=Europe/Berlin:20240409T150000
DTEND;TZID=Europe/Berlin:20240409T180000
DTSTAMP:20260421T232842
CREATED:20240723T145719Z
LAST-MODIFIED:20251027T191531Z
UID:10003331-1712674800-1712685600@pulsschlag-dorstfeld.de
SUMMARY:Dienstagscafé im PULSSCHLAG Dorstfeld
DESCRIPTION:Jetzt jede Woche Dienstagscafé im PULSSCHLAG Bürgerhaus Dorstfeld von 15 bis 18 Uhr \nImmer mit vielen leckeren selbstgebackenen Torten und natürlich mit Jacobskaffee und Milch-Kakao\, Tee und Kaltgetränken. \nKommt vorbei im PULSSCHLAG am Vogelpothsweg 15 in Dorstfeld!
URL:https://pulsschlag-dorstfeld.de/event/dienstagscafe-im-pulsschlag-dorstfeld/2024-04-09/
LOCATION:Pulsschlag Dorstfeld\, Vogelpothsweg 15\, Dortmund\, Deutschland
ATTACH;FMTTYPE=image/jpeg:https://pulsschlag-dorstfeld.de/wp-content/uploads/2024/07/Kopie-von-Aussensprechstunde-Seniorenbuero-1609.jpg
END:VEVENT
BEGIN:VEVENT
DTSTART;TZID=Europe/Berlin:20240409T150000
DTEND;TZID=Europe/Berlin:20240409T180000
DTSTAMP:20260421T232842
CREATED:20230714T130239Z
LAST-MODIFIED:20231230T120538Z
UID:10000874-1712674800-1712685600@pulsschlag-dorstfeld.de
SUMMARY:Dienstagscafé im PULSSCHLAG Dorstfeld
DESCRIPTION:Jetzt jede Woche Dienstagscafé im PULSSCHLAG Bürgerhaus Dorstfeld von 15 bis 18 Uhr \nImmer mit vielen leckeren selbstgebackenen Torten und natürlich mit Jacobskaffee und Milch-Kakao\, Tee und Kaltgetränken. \nKommt vorbei im PULSSCHLAG am Vogelpothsweg 15 in Dorstfeld!
URL:https://pulsschlag-dorstfeld.de/event/dienstagscafe/2024-04-09/
LOCATION:Pulsschlag Dorstfeld\, Vogelpothsweg 15\, Dortmund\, Deutschland
ATTACH;FMTTYPE=image/jpeg:https://pulsschlag-dorstfeld.de/wp-content/uploads/2023/07/IMG_9573-scaled.jpeg
END:VEVENT
BEGIN:VEVENT
DTSTART;TZID=Europe/Berlin:20240406T200000
DTEND;TZID=Europe/Berlin:20240407T020000
DTSTAMP:20260421T232842
CREATED:20240225T104754Z
LAST-MODIFIED:20240225T104754Z
UID:10002810-1712433600-1712455200@pulsschlag-dorstfeld.de
SUMMARY:Orpheumparty im PULSSCHLAG Dorstfeld
DESCRIPTION:ORPHEUM-Party im PULSSCHLAG Dorstfeld \n6. April 2024 ab 20 Uhr im PULSSCHLAG Bürgerhaus Dorstfeld – Mit echtem Venyl und allen ORPHEUM Hits von den original ORPHEUM-DJs – Andreas Herzig und Gordon Vogel legen auf – Foodtruck direkt vor der Tür ab 19 Uhr \nMit neuer Lichtanlage geht’s in die diesjährige ORPHEUM-Party im PULSSCHLAG-Dorstfeld \nNeu: Foodtruck mit leckeren Angeboten ab 19 Uhr \nMoving Lights und Discokugel schaffen ab jetzt eine noch tollere Atmosphere im PULSSCHLAG Bürgerhaus. 80er und 90er-Tanzveranstaltungen boomen bei uns und bieten für die Genießer-Generationen die jeweils angemessene Musik und Stimmung.  \nFrisches Kronen-Puls vom Fass\, Mixgetränke aller Art und Antis werden ergänzt durch Wein\, Sekt und Aperolmix stehen gekühlt bereit. Kaffee-Spezialitäten von Jacobs in Gross und Klein wärmen auf. \nNur gegen Bares gibt es maximal je vier Karten zu 10 € im Vorverkauf ab 9. März im PULSSCHLAG Bürgerhaus Dorstfeld\, Vogelpothsweg 15 und ab 9:30 Uhr bei Radio Breitenstein\, Wittener Straße 59. Dazu einige wenige Karten an der Abendkasse für 12 €\, damit mehr Gäste eine Chance haben! \nEs stehen viele Parkplätze vor dem Haus zur Verfügung. Bitte den Anweisungen der Ordner folgen und sparsam parken. Die Rettungswege und taktilen Leitlinien sind unbedingt freizuhalten. \nDas PULSSCHLAG Bürgerhaus Dorstfeld in der ehemaligen Waschkaue der Zeche Dorstfeld\, Schacht 2/3 ist eine Gemeinnützige Genossenschaft und fördert die Demokratie und Kultur in Dorstfeld. Es gilt die aushängende Hausordnung. Gäste akzeptieren beim Betreten die Foto- und Videoaufnahmen des Veranstalters zu Werbezwecken des Hauses. \nwww.PULSSCHLAG-Dorstfeld.de
URL:https://pulsschlag-dorstfeld.de/event/orpheumparty-im-pulsschlag-dorstfeld/
LOCATION:Pulsschlag Dorstfeld\, Vogelpothsweg 15\, Dortmund\, Deutschland
ATTACH;FMTTYPE=image/jpeg:https://pulsschlag-dorstfeld.de/wp-content/uploads/2024/02/8ea37c70-f581-4287-b122-3c5153bfa251.jpeg
END:VEVENT
BEGIN:VEVENT
DTSTART;TZID=Europe/Berlin:20240402T150000
DTEND;TZID=Europe/Berlin:20240402T180000
DTSTAMP:20260421T232842
CREATED:20240723T145719Z
LAST-MODIFIED:20251027T191531Z
UID:10003330-1712070000-1712080800@pulsschlag-dorstfeld.de
SUMMARY:Dienstagscafé im PULSSCHLAG Dorstfeld
DESCRIPTION:Jetzt jede Woche Dienstagscafé im PULSSCHLAG Bürgerhaus Dorstfeld von 15 bis 18 Uhr \nImmer mit vielen leckeren selbstgebackenen Torten und natürlich mit Jacobskaffee und Milch-Kakao\, Tee und Kaltgetränken. \nKommt vorbei im PULSSCHLAG am Vogelpothsweg 15 in Dorstfeld!
URL:https://pulsschlag-dorstfeld.de/event/dienstagscafe-im-pulsschlag-dorstfeld/2024-04-02/
LOCATION:Pulsschlag Dorstfeld\, Vogelpothsweg 15\, Dortmund\, Deutschland
ATTACH;FMTTYPE=image/jpeg:https://pulsschlag-dorstfeld.de/wp-content/uploads/2024/07/Kopie-von-Aussensprechstunde-Seniorenbuero-1609.jpg
END:VEVENT
BEGIN:VEVENT
DTSTART;TZID=Europe/Berlin:20240402T150000
DTEND;TZID=Europe/Berlin:20240402T180000
DTSTAMP:20260421T232842
CREATED:20230714T130239Z
LAST-MODIFIED:20231230T120538Z
UID:10000873-1712070000-1712080800@pulsschlag-dorstfeld.de
SUMMARY:Dienstagscafé im PULSSCHLAG Dorstfeld
DESCRIPTION:Jetzt jede Woche Dienstagscafé im PULSSCHLAG Bürgerhaus Dorstfeld von 15 bis 18 Uhr \nImmer mit vielen leckeren selbstgebackenen Torten und natürlich mit Jacobskaffee und Milch-Kakao\, Tee und Kaltgetränken. \nKommt vorbei im PULSSCHLAG am Vogelpothsweg 15 in Dorstfeld!
URL:https://pulsschlag-dorstfeld.de/event/dienstagscafe/2024-04-02/
LOCATION:Pulsschlag Dorstfeld\, Vogelpothsweg 15\, Dortmund\, Deutschland
ATTACH;FMTTYPE=image/jpeg:https://pulsschlag-dorstfeld.de/wp-content/uploads/2023/07/IMG_9573-scaled.jpeg
END:VEVENT
BEGIN:VEVENT
DTSTART;TZID=Europe/Berlin:20240331T190000
DTEND;TZID=Europe/Berlin:20240401T020000
DTSTAMP:20260421T232842
CREATED:20240114T210050Z
LAST-MODIFIED:20240114T210225Z
UID:10002802-1711911600-1711936800@pulsschlag-dorstfeld.de
SUMMARY:Eiertanz von und mit Ruud van Laar
DESCRIPTION:Eiertanz im PULSSCHLAG Dorstfeld – Ruud van Laar legt wieder auf! – Nicht nur gemütlich\, sondern auch cool!
URL:https://pulsschlag-dorstfeld.de/event/eiertanz-von-und-mit-ruud-van-laar/
LOCATION:Pulsschlag Dorstfeld\, Vogelpothsweg 15\, Dortmund\, Deutschland
ATTACH;FMTTYPE=image/jpeg:https://pulsschlag-dorstfeld.de/wp-content/uploads/2023/07/IMG_5570-scaled.jpeg
END:VEVENT
BEGIN:VEVENT
DTSTART;TZID=Europe/Berlin:20240326T150000
DTEND;TZID=Europe/Berlin:20240326T180000
DTSTAMP:20260421T232842
CREATED:20240723T145719Z
LAST-MODIFIED:20251027T191531Z
UID:10003329-1711465200-1711476000@pulsschlag-dorstfeld.de
SUMMARY:Dienstagscafé im PULSSCHLAG Dorstfeld
DESCRIPTION:Jetzt jede Woche Dienstagscafé im PULSSCHLAG Bürgerhaus Dorstfeld von 15 bis 18 Uhr \nImmer mit vielen leckeren selbstgebackenen Torten und natürlich mit Jacobskaffee und Milch-Kakao\, Tee und Kaltgetränken. \nKommt vorbei im PULSSCHLAG am Vogelpothsweg 15 in Dorstfeld!
URL:https://pulsschlag-dorstfeld.de/event/dienstagscafe-im-pulsschlag-dorstfeld/2024-03-26/
LOCATION:Pulsschlag Dorstfeld\, Vogelpothsweg 15\, Dortmund\, Deutschland
ATTACH;FMTTYPE=image/jpeg:https://pulsschlag-dorstfeld.de/wp-content/uploads/2024/07/Kopie-von-Aussensprechstunde-Seniorenbuero-1609.jpg
END:VEVENT
BEGIN:VEVENT
DTSTART;TZID=Europe/Berlin:20240326T150000
DTEND;TZID=Europe/Berlin:20240326T180000
DTSTAMP:20260421T232842
CREATED:20230714T130239Z
LAST-MODIFIED:20231230T120538Z
UID:10000872-1711465200-1711476000@pulsschlag-dorstfeld.de
SUMMARY:Dienstagscafé im PULSSCHLAG Dorstfeld
DESCRIPTION:Jetzt jede Woche Dienstagscafé im PULSSCHLAG Bürgerhaus Dorstfeld von 15 bis 18 Uhr \nImmer mit vielen leckeren selbstgebackenen Torten und natürlich mit Jacobskaffee und Milch-Kakao\, Tee und Kaltgetränken. \nKommt vorbei im PULSSCHLAG am Vogelpothsweg 15 in Dorstfeld!
URL:https://pulsschlag-dorstfeld.de/event/dienstagscafe/2024-03-26/
LOCATION:Pulsschlag Dorstfeld\, Vogelpothsweg 15\, Dortmund\, Deutschland
ATTACH;FMTTYPE=image/jpeg:https://pulsschlag-dorstfeld.de/wp-content/uploads/2023/07/IMG_9573-scaled.jpeg
END:VEVENT
BEGIN:VEVENT
DTSTART;TZID=Europe/Berlin:20240324T150000
DTEND;TZID=Europe/Berlin:20240324T180000
DTSTAMP:20260421T232842
CREATED:20240225T105227Z
LAST-MODIFIED:20240303T191021Z
UID:10002811-1711292400-1711303200@pulsschlag-dorstfeld.de
SUMMARY:Bienenstich und Baklava
DESCRIPTION:Am 24.03. serviert das Bürgerhaus Dorstfeld „Pulsschlag“ wieder „Bienenstich und Baklava“ für alle interessierten Bürger*innen. Auf die Gäste warten Kuchen\, Baklava\, Kaffe\, türkischer Tee und viele Gespräche.\nFür die kleinen Besucher spielt das „Puppentheater Turbine“ aus Dortmund zur Einstimmung auf das nahe Osterfest das Stück „Hoppelpoppels Hasenfrühstück“. Alle wollen zu Ostern frische Eier von Hoppelpoppel aber dafür sind doch die Hühner zuständig! Und dann kommt noch Henne Berta und berichtet von einem mysteriösen Riesenei in ihrem Stall und dann wird es richtig turbulent! Das Stück dauert 45 Minuten ist für Kinder ab 3 Jahren geeignet\nAb 15 Uhr sind die Türen zum Café geöffnet\, das Programm beginnt um 15.45 Uhr. Der Eintritt zum Theaterstück ist frei\, um Spenden wird gebeten.\nWeitere Informationen finden Sie unter www.pulsschlag-dorstfeld.de und www.turbine-puppentheater.de
URL:https://pulsschlag-dorstfeld.de/event/bienenstich-und-baklava-8/
LOCATION:Pulsschlag Dorstfeld\, Vogelpothsweg 15\, Dortmund\, Deutschland
ATTACH;FMTTYPE=image/jpeg:https://pulsschlag-dorstfeld.de/wp-content/uploads/2024/02/IMG_9427.jpeg
END:VEVENT
BEGIN:VEVENT
DTSTART;TZID=Europe/Berlin:20240321T180000
DTEND;TZID=Europe/Berlin:20240321T210000
DTSTAMP:20260421T232842
CREATED:20231002T190917Z
LAST-MODIFIED:20231217T202531Z
UID:10001415-1711044000-1711054800@pulsschlag-dorstfeld.de
SUMMARY:Vereinskneipe
DESCRIPTION:Hier treffen sich Vereine\, um den Austausch zu suchen. Neben der einzigartigen Atmosphäre im Pulsschlag\, können die Besucher heiße und kalte Getränke genießen. Demnächst jeden Donnerstag im Bürgerhaus.
URL:https://pulsschlag-dorstfeld.de/event/vereinskneipe-2-2/2024-03-21/
LOCATION:Pulsschlag Dorstfeld\, Vogelpothsweg 15\, Dortmund\, Deutschland
ATTACH;FMTTYPE=image/jpeg:https://pulsschlag-dorstfeld.de/wp-content/uploads/2023/07/IMG_9151-scaled.jpeg
END:VEVENT
BEGIN:VEVENT
DTSTART;TZID=Europe/Berlin:20240319T150000
DTEND;TZID=Europe/Berlin:20240319T180000
DTSTAMP:20260421T232842
CREATED:20240723T145719Z
LAST-MODIFIED:20251027T191531Z
UID:10003328-1710860400-1710871200@pulsschlag-dorstfeld.de
SUMMARY:Dienstagscafé im PULSSCHLAG Dorstfeld
DESCRIPTION:Jetzt jede Woche Dienstagscafé im PULSSCHLAG Bürgerhaus Dorstfeld von 15 bis 18 Uhr \nImmer mit vielen leckeren selbstgebackenen Torten und natürlich mit Jacobskaffee und Milch-Kakao\, Tee und Kaltgetränken. \nKommt vorbei im PULSSCHLAG am Vogelpothsweg 15 in Dorstfeld!
URL:https://pulsschlag-dorstfeld.de/event/dienstagscafe-im-pulsschlag-dorstfeld/2024-03-19/
LOCATION:Pulsschlag Dorstfeld\, Vogelpothsweg 15\, Dortmund\, Deutschland
ATTACH;FMTTYPE=image/jpeg:https://pulsschlag-dorstfeld.de/wp-content/uploads/2024/07/Kopie-von-Aussensprechstunde-Seniorenbuero-1609.jpg
END:VEVENT
BEGIN:VEVENT
DTSTART;TZID=Europe/Berlin:20240319T150000
DTEND;TZID=Europe/Berlin:20240319T180000
DTSTAMP:20260421T232842
CREATED:20230714T130239Z
LAST-MODIFIED:20231230T120538Z
UID:10000871-1710860400-1710871200@pulsschlag-dorstfeld.de
SUMMARY:Dienstagscafé im PULSSCHLAG Dorstfeld
DESCRIPTION:Jetzt jede Woche Dienstagscafé im PULSSCHLAG Bürgerhaus Dorstfeld von 15 bis 18 Uhr \nImmer mit vielen leckeren selbstgebackenen Torten und natürlich mit Jacobskaffee und Milch-Kakao\, Tee und Kaltgetränken. \nKommt vorbei im PULSSCHLAG am Vogelpothsweg 15 in Dorstfeld!
URL:https://pulsschlag-dorstfeld.de/event/dienstagscafe/2024-03-19/
LOCATION:Pulsschlag Dorstfeld\, Vogelpothsweg 15\, Dortmund\, Deutschland
ATTACH;FMTTYPE=image/jpeg:https://pulsschlag-dorstfeld.de/wp-content/uploads/2023/07/IMG_9573-scaled.jpeg
END:VEVENT
BEGIN:VEVENT
DTSTART;TZID=Europe/Berlin:20240315T190000
DTEND;TZID=Europe/Berlin:20240316T010000
DTSTAMP:20260421T232842
CREATED:20240114T213031Z
LAST-MODIFIED:20240114T213031Z
UID:10002807-1710529200-1710550800@pulsschlag-dorstfeld.de
SUMMARY:Tanztrip von und mit Ruud van Laar
DESCRIPTION:Tanztrip im PULSSCHLAG Dorstfeld – Ruud van Laar legt wieder auf! – Nicht nur gemütlich\, sondern auch cool!
URL:https://pulsschlag-dorstfeld.de/event/tanztrip-von-und-mit-ruud-van-laar-9/
LOCATION:Pulsschlag Dorstfeld\, Vogelpothsweg 15\, Dortmund\, Deutschland
ATTACH;FMTTYPE=image/jpeg:https://pulsschlag-dorstfeld.de/wp-content/uploads/2023/07/IMG_5572-scaled.jpeg
END:VEVENT
BEGIN:VEVENT
DTSTART;TZID=Europe/Berlin:20240314T180000
DTEND;TZID=Europe/Berlin:20240314T210000
DTSTAMP:20260421T232842
CREATED:20231002T190917Z
LAST-MODIFIED:20231217T202531Z
UID:10001414-1710439200-1710450000@pulsschlag-dorstfeld.de
SUMMARY:Vereinskneipe
DESCRIPTION:Hier treffen sich Vereine\, um den Austausch zu suchen. Neben der einzigartigen Atmosphäre im Pulsschlag\, können die Besucher heiße und kalte Getränke genießen. Demnächst jeden Donnerstag im Bürgerhaus.
URL:https://pulsschlag-dorstfeld.de/event/vereinskneipe-2-2/2024-03-14/
LOCATION:Pulsschlag Dorstfeld\, Vogelpothsweg 15\, Dortmund\, Deutschland
ATTACH;FMTTYPE=image/jpeg:https://pulsschlag-dorstfeld.de/wp-content/uploads/2023/07/IMG_9151-scaled.jpeg
END:VEVENT
BEGIN:VEVENT
DTSTART;TZID=Europe/Berlin:20240312T150000
DTEND;TZID=Europe/Berlin:20240312T180000
DTSTAMP:20260421T232842
CREATED:20240723T145719Z
LAST-MODIFIED:20251027T191531Z
UID:10003327-1710255600-1710266400@pulsschlag-dorstfeld.de
SUMMARY:Dienstagscafé im PULSSCHLAG Dorstfeld
DESCRIPTION:Jetzt jede Woche Dienstagscafé im PULSSCHLAG Bürgerhaus Dorstfeld von 15 bis 18 Uhr \nImmer mit vielen leckeren selbstgebackenen Torten und natürlich mit Jacobskaffee und Milch-Kakao\, Tee und Kaltgetränken. \nKommt vorbei im PULSSCHLAG am Vogelpothsweg 15 in Dorstfeld!
URL:https://pulsschlag-dorstfeld.de/event/dienstagscafe-im-pulsschlag-dorstfeld/2024-03-12/
LOCATION:Pulsschlag Dorstfeld\, Vogelpothsweg 15\, Dortmund\, Deutschland
ATTACH;FMTTYPE=image/jpeg:https://pulsschlag-dorstfeld.de/wp-content/uploads/2024/07/Kopie-von-Aussensprechstunde-Seniorenbuero-1609.jpg
END:VEVENT
BEGIN:VEVENT
DTSTART;TZID=Europe/Berlin:20240312T150000
DTEND;TZID=Europe/Berlin:20240312T180000
DTSTAMP:20260421T232842
CREATED:20230714T130239Z
LAST-MODIFIED:20231230T120538Z
UID:10000870-1710255600-1710266400@pulsschlag-dorstfeld.de
SUMMARY:Dienstagscafé im PULSSCHLAG Dorstfeld
DESCRIPTION:Jetzt jede Woche Dienstagscafé im PULSSCHLAG Bürgerhaus Dorstfeld von 15 bis 18 Uhr \nImmer mit vielen leckeren selbstgebackenen Torten und natürlich mit Jacobskaffee und Milch-Kakao\, Tee und Kaltgetränken. \nKommt vorbei im PULSSCHLAG am Vogelpothsweg 15 in Dorstfeld!
URL:https://pulsschlag-dorstfeld.de/event/dienstagscafe/2024-03-12/
LOCATION:Pulsschlag Dorstfeld\, Vogelpothsweg 15\, Dortmund\, Deutschland
ATTACH;FMTTYPE=image/jpeg:https://pulsschlag-dorstfeld.de/wp-content/uploads/2023/07/IMG_9573-scaled.jpeg
END:VEVENT
BEGIN:VEVENT
DTSTART;TZID=Europe/Berlin:20240307T180000
DTEND;TZID=Europe/Berlin:20240307T210000
DTSTAMP:20260421T232842
CREATED:20231002T190917Z
LAST-MODIFIED:20231217T202531Z
UID:10001413-1709834400-1709845200@pulsschlag-dorstfeld.de
SUMMARY:Vereinskneipe
DESCRIPTION:Hier treffen sich Vereine\, um den Austausch zu suchen. Neben der einzigartigen Atmosphäre im Pulsschlag\, können die Besucher heiße und kalte Getränke genießen. Demnächst jeden Donnerstag im Bürgerhaus.
URL:https://pulsschlag-dorstfeld.de/event/vereinskneipe-2-2/2024-03-07/
LOCATION:Pulsschlag Dorstfeld\, Vogelpothsweg 15\, Dortmund\, Deutschland
ATTACH;FMTTYPE=image/jpeg:https://pulsschlag-dorstfeld.de/wp-content/uploads/2023/07/IMG_9151-scaled.jpeg
END:VEVENT
BEGIN:VEVENT
DTSTART;TZID=Europe/Berlin:20240305T150000
DTEND;TZID=Europe/Berlin:20240305T180000
DTSTAMP:20260421T232842
CREATED:20240723T145719Z
LAST-MODIFIED:20251027T191531Z
UID:10003326-1709650800-1709661600@pulsschlag-dorstfeld.de
SUMMARY:Dienstagscafé im PULSSCHLAG Dorstfeld
DESCRIPTION:Jetzt jede Woche Dienstagscafé im PULSSCHLAG Bürgerhaus Dorstfeld von 15 bis 18 Uhr \nImmer mit vielen leckeren selbstgebackenen Torten und natürlich mit Jacobskaffee und Milch-Kakao\, Tee und Kaltgetränken. \nKommt vorbei im PULSSCHLAG am Vogelpothsweg 15 in Dorstfeld!
URL:https://pulsschlag-dorstfeld.de/event/dienstagscafe-im-pulsschlag-dorstfeld/2024-03-05/
LOCATION:Pulsschlag Dorstfeld\, Vogelpothsweg 15\, Dortmund\, Deutschland
ATTACH;FMTTYPE=image/jpeg:https://pulsschlag-dorstfeld.de/wp-content/uploads/2024/07/Kopie-von-Aussensprechstunde-Seniorenbuero-1609.jpg
END:VEVENT
BEGIN:VEVENT
DTSTART;TZID=Europe/Berlin:20240305T150000
DTEND;TZID=Europe/Berlin:20240305T180000
DTSTAMP:20260421T232842
CREATED:20230714T130239Z
LAST-MODIFIED:20231230T120538Z
UID:10000869-1709650800-1709661600@pulsschlag-dorstfeld.de
SUMMARY:Dienstagscafé im PULSSCHLAG Dorstfeld
DESCRIPTION:Jetzt jede Woche Dienstagscafé im PULSSCHLAG Bürgerhaus Dorstfeld von 15 bis 18 Uhr \nImmer mit vielen leckeren selbstgebackenen Torten und natürlich mit Jacobskaffee und Milch-Kakao\, Tee und Kaltgetränken. \nKommt vorbei im PULSSCHLAG am Vogelpothsweg 15 in Dorstfeld!
URL:https://pulsschlag-dorstfeld.de/event/dienstagscafe/2024-03-05/
LOCATION:Pulsschlag Dorstfeld\, Vogelpothsweg 15\, Dortmund\, Deutschland
ATTACH;FMTTYPE=image/jpeg:https://pulsschlag-dorstfeld.de/wp-content/uploads/2023/07/IMG_9573-scaled.jpeg
END:VEVENT
BEGIN:VEVENT
DTSTART;TZID=Europe/Berlin:20240229T180000
DTEND;TZID=Europe/Berlin:20240229T210000
DTSTAMP:20260421T232842
CREATED:20231002T190917Z
LAST-MODIFIED:20231217T202531Z
UID:10001412-1709229600-1709240400@pulsschlag-dorstfeld.de
SUMMARY:Vereinskneipe
DESCRIPTION:Hier treffen sich Vereine\, um den Austausch zu suchen. Neben der einzigartigen Atmosphäre im Pulsschlag\, können die Besucher heiße und kalte Getränke genießen. Demnächst jeden Donnerstag im Bürgerhaus.
URL:https://pulsschlag-dorstfeld.de/event/vereinskneipe-2-2/2024-02-29/
LOCATION:Pulsschlag Dorstfeld\, Vogelpothsweg 15\, Dortmund\, Deutschland
ATTACH;FMTTYPE=image/jpeg:https://pulsschlag-dorstfeld.de/wp-content/uploads/2023/07/IMG_9151-scaled.jpeg
END:VEVENT
BEGIN:VEVENT
DTSTART;TZID=Europe/Berlin:20240227T150000
DTEND;TZID=Europe/Berlin:20240227T180000
DTSTAMP:20260421T232842
CREATED:20240723T145719Z
LAST-MODIFIED:20251027T191531Z
UID:10003325-1709046000-1709056800@pulsschlag-dorstfeld.de
SUMMARY:Dienstagscafé im PULSSCHLAG Dorstfeld
DESCRIPTION:Jetzt jede Woche Dienstagscafé im PULSSCHLAG Bürgerhaus Dorstfeld von 15 bis 18 Uhr \nImmer mit vielen leckeren selbstgebackenen Torten und natürlich mit Jacobskaffee und Milch-Kakao\, Tee und Kaltgetränken. \nKommt vorbei im PULSSCHLAG am Vogelpothsweg 15 in Dorstfeld!
URL:https://pulsschlag-dorstfeld.de/event/dienstagscafe-im-pulsschlag-dorstfeld/2024-02-27/
LOCATION:Pulsschlag Dorstfeld\, Vogelpothsweg 15\, Dortmund\, Deutschland
ATTACH;FMTTYPE=image/jpeg:https://pulsschlag-dorstfeld.de/wp-content/uploads/2024/07/Kopie-von-Aussensprechstunde-Seniorenbuero-1609.jpg
END:VEVENT
BEGIN:VEVENT
DTSTART;TZID=Europe/Berlin:20240227T150000
DTEND;TZID=Europe/Berlin:20240227T180000
DTSTAMP:20260421T232842
CREATED:20230714T130239Z
LAST-MODIFIED:20231230T120538Z
UID:10000868-1709046000-1709056800@pulsschlag-dorstfeld.de
SUMMARY:Dienstagscafé im PULSSCHLAG Dorstfeld
DESCRIPTION:Jetzt jede Woche Dienstagscafé im PULSSCHLAG Bürgerhaus Dorstfeld von 15 bis 18 Uhr \nImmer mit vielen leckeren selbstgebackenen Torten und natürlich mit Jacobskaffee und Milch-Kakao\, Tee und Kaltgetränken. \nKommt vorbei im PULSSCHLAG am Vogelpothsweg 15 in Dorstfeld!
URL:https://pulsschlag-dorstfeld.de/event/dienstagscafe/2024-02-27/
LOCATION:Pulsschlag Dorstfeld\, Vogelpothsweg 15\, Dortmund\, Deutschland
ATTACH;FMTTYPE=image/jpeg:https://pulsschlag-dorstfeld.de/wp-content/uploads/2023/07/IMG_9573-scaled.jpeg
END:VEVENT
BEGIN:VEVENT
DTSTART;TZID=Europe/Berlin:20240223T190000
DTEND;TZID=Europe/Berlin:20240224T010000
DTSTAMP:20260421T232842
CREATED:20240114T212956Z
LAST-MODIFIED:20240114T212956Z
UID:10002806-1708714800-1708736400@pulsschlag-dorstfeld.de
SUMMARY:Tanztrip von und mit Ruud van Laar
DESCRIPTION:Tanztrip im PULSSCHLAG Dorstfeld – Ruud van Laar legt wieder auf! – Nicht nur gemütlich\, sondern auch cool!
URL:https://pulsschlag-dorstfeld.de/event/tanztrip-von-und-mit-ruud-van-laar-8/
LOCATION:Pulsschlag Dorstfeld\, Vogelpothsweg 15\, Dortmund\, Deutschland
ATTACH;FMTTYPE=image/jpeg:https://pulsschlag-dorstfeld.de/wp-content/uploads/2023/07/IMG_5572-scaled.jpeg
END:VEVENT
BEGIN:VEVENT
DTSTART;TZID=Europe/Berlin:20240222T180000
DTEND;TZID=Europe/Berlin:20240222T210000
DTSTAMP:20260421T232842
CREATED:20231002T190917Z
LAST-MODIFIED:20231217T202531Z
UID:10001411-1708624800-1708635600@pulsschlag-dorstfeld.de
SUMMARY:Vereinskneipe
DESCRIPTION:Hier treffen sich Vereine\, um den Austausch zu suchen. Neben der einzigartigen Atmosphäre im Pulsschlag\, können die Besucher heiße und kalte Getränke genießen. Demnächst jeden Donnerstag im Bürgerhaus.
URL:https://pulsschlag-dorstfeld.de/event/vereinskneipe-2-2/2024-02-22/
LOCATION:Pulsschlag Dorstfeld\, Vogelpothsweg 15\, Dortmund\, Deutschland
ATTACH;FMTTYPE=image/jpeg:https://pulsschlag-dorstfeld.de/wp-content/uploads/2023/07/IMG_9151-scaled.jpeg
END:VEVENT
BEGIN:VEVENT
DTSTART;TZID=Europe/Berlin:20240220T150000
DTEND;TZID=Europe/Berlin:20240220T180000
DTSTAMP:20260421T232842
CREATED:20240723T145719Z
LAST-MODIFIED:20251027T191531Z
UID:10003324-1708441200-1708452000@pulsschlag-dorstfeld.de
SUMMARY:Dienstagscafé im PULSSCHLAG Dorstfeld
DESCRIPTION:Jetzt jede Woche Dienstagscafé im PULSSCHLAG Bürgerhaus Dorstfeld von 15 bis 18 Uhr \nImmer mit vielen leckeren selbstgebackenen Torten und natürlich mit Jacobskaffee und Milch-Kakao\, Tee und Kaltgetränken. \nKommt vorbei im PULSSCHLAG am Vogelpothsweg 15 in Dorstfeld!
URL:https://pulsschlag-dorstfeld.de/event/dienstagscafe-im-pulsschlag-dorstfeld/2024-02-20/
LOCATION:Pulsschlag Dorstfeld\, Vogelpothsweg 15\, Dortmund\, Deutschland
ATTACH;FMTTYPE=image/jpeg:https://pulsschlag-dorstfeld.de/wp-content/uploads/2024/07/Kopie-von-Aussensprechstunde-Seniorenbuero-1609.jpg
END:VEVENT
BEGIN:VEVENT
DTSTART;TZID=Europe/Berlin:20240220T150000
DTEND;TZID=Europe/Berlin:20240220T180000
DTSTAMP:20260421T232842
CREATED:20230714T130239Z
LAST-MODIFIED:20231230T120538Z
UID:10000867-1708441200-1708452000@pulsschlag-dorstfeld.de
SUMMARY:Dienstagscafé im PULSSCHLAG Dorstfeld
DESCRIPTION:Jetzt jede Woche Dienstagscafé im PULSSCHLAG Bürgerhaus Dorstfeld von 15 bis 18 Uhr \nImmer mit vielen leckeren selbstgebackenen Torten und natürlich mit Jacobskaffee und Milch-Kakao\, Tee und Kaltgetränken. \nKommt vorbei im PULSSCHLAG am Vogelpothsweg 15 in Dorstfeld!
URL:https://pulsschlag-dorstfeld.de/event/dienstagscafe/2024-02-20/
LOCATION:Pulsschlag Dorstfeld\, Vogelpothsweg 15\, Dortmund\, Deutschland
ATTACH;FMTTYPE=image/jpeg:https://pulsschlag-dorstfeld.de/wp-content/uploads/2023/07/IMG_9573-scaled.jpeg
END:VEVENT
END:VCALENDAR