BEGIN:VCALENDAR
VERSION:2.0
PRODID:-//Pulsschlag-Dorstfeld - ECPv6.8.2.1//NONSGML v1.0//EN
CALSCALE:GREGORIAN
METHOD:PUBLISH
X-WR-CALNAME:Pulsschlag-Dorstfeld
X-ORIGINAL-URL:https://pulsschlag-dorstfeld.de
X-WR-CALDESC:Veranstaltungen für Pulsschlag-Dorstfeld
REFRESH-INTERVAL;VALUE=DURATION:PT1H
X-Robots-Tag:noindex
X-PUBLISHED-TTL:PT1H
BEGIN:VTIMEZONE
TZID:Europe/Berlin
BEGIN:DAYLIGHT
TZOFFSETFROM:+0100
TZOFFSETTO:+0200
TZNAME:CEST
DTSTART:20250330T010000
END:DAYLIGHT
BEGIN:STANDARD
TZOFFSETFROM:+0200
TZOFFSETTO:+0100
TZNAME:CET
DTSTART:20251026T010000
END:STANDARD
END:VTIMEZONE
BEGIN:VEVENT
DTSTART;TZID=Europe/Berlin:20250329T200000
DTEND;TZID=Europe/Berlin:20250329T200000
DTSTAMP:20260424T051553
CREATED:20250203T174225Z
LAST-MODIFIED:20250219T125050Z
UID:10004509-1743278400-1743278400@pulsschlag-dorstfeld.de
SUMMARY:Ü40-Party
DESCRIPTION:2 Areas\nMainfloor: DJ Funky-Falk (39 Degree Strobels) – Vocal House – Disco \nSidefloor: DJ Gordon (Resident Orpheum) / DJ Markus (Las Vegas) – Classic Club Sounds \n  \nBeginn: 20 Uhr \nVVK (10 €)  ab 1.3.2025\, 9:30 Uhr: \n\nEuronics Breitenstein\, Wittener Straße 59 (außer samstags)\nBürgerhaus Dortmund (zu den üblichen Öffnungszeiten)\nEventim: https://www.eventim-light.com/de/a/67a4add64b8ab253d5825775 \, zzgl. 1\,34€ Vorverkaufsgebühr\nÜber den QR-Code:\n\n \n  \n  \n  \n  \n  \nAK: 12€ \n \n  \n 
URL:https://pulsschlag-dorstfeld.de/event/ue40-party/
LOCATION:Pulsschlag Dorstfeld\, Vogelpothsweg 15\, Dortmund\, Deutschland
CATEGORIES:Party
ATTACH;FMTTYPE=image/png:https://pulsschlag-dorstfeld.de/wp-content/uploads/2025/02/Pulsschlag-Ue40-29.03.png
END:VEVENT
END:VCALENDAR