BEGIN:VCALENDAR
VERSION:2.0
PRODID:-//Pulsschlag-Dorstfeld - ECPv6.8.2.1//NONSGML v1.0//EN
CALSCALE:GREGORIAN
METHOD:PUBLISH
X-ORIGINAL-URL:https://pulsschlag-dorstfeld.de
X-WR-CALDESC:Veranstaltungen für Pulsschlag-Dorstfeld
REFRESH-INTERVAL;VALUE=DURATION:PT1H
X-Robots-Tag:noindex
X-PUBLISHED-TTL:PT1H
BEGIN:VTIMEZONE
TZID:Europe/Berlin
BEGIN:DAYLIGHT
TZOFFSETFROM:+0100
TZOFFSETTO:+0200
TZNAME:CEST
DTSTART:20250330T010000
END:DAYLIGHT
BEGIN:STANDARD
TZOFFSETFROM:+0200
TZOFFSETTO:+0100
TZNAME:CET
DTSTART:20251026T010000
END:STANDARD
END:VTIMEZONE
BEGIN:VEVENT
DTSTART;TZID=Europe/Berlin:20250218T190000
DTEND;TZID=Europe/Berlin:20250218T220000
DTSTAMP:20260424T150354
CREATED:20250120T160403Z
LAST-MODIFIED:20250120T160403Z
UID:10004506-1739905200-1739916000@pulsschlag-dorstfeld.de
SUMMARY:Konzert: ZAM³ - Garstige Lieder für die reifere Jugend
DESCRIPTION:Zornige Alte Männer „ZAM³“  \nEnde der 70er bis in die 90er Jahre waren sie als „Schweinekombo“ Kultband der Friedensbewegung. Später fanden sie sich als „Zornige Alte Männer“ wieder und jetzt\, nach dem Tod von Sänger Johannes\, spielen sie ihre Lieder als Akustik-Trio „ZAM³“. \n„Garstige Lieder für die reifere Jugend“ heißt ihr aktuelles Programm: folkig\, rockig bluesig und ein paar Balladen. Alles ziemlich flott und nie langweilig. Lieder zum Stand der Dinge in der Republik\, Mutmach-Lieder für Frustrierte und solche die es nicht werden wollen\, irgendwas mit COVID und auch über’s Älterwerden. \nDie Zornigen Alten Männer „ZAM³“ sind: Henri Hochstrate (b\, git\, voc)\, Peter Stirnberg (git\, perc\, voc\, prog) und Wolfgang Brust (git\, voc\, harp). \nAlles weitere: www.zornigealtemaenner.de
URL:https://pulsschlag-dorstfeld.de/event/konzert-zam%c2%b3-garstige-lieder-fuer-die-reifere-jugend/
LOCATION:Pulsschlag Dorstfeld\, Vogelpothsweg 15\, Dortmund\, Deutschland
CATEGORIES:Konzert
ATTACH;FMTTYPE=image/jpeg:https://pulsschlag-dorstfeld.de/wp-content/uploads/2025/01/ZAM³-1609.jpg
END:VEVENT
END:VCALENDAR