BEGIN:VCALENDAR
VERSION:2.0
PRODID:-//Pulsschlag-Dorstfeld - ECPv6.8.2.1//NONSGML v1.0//EN
CALSCALE:GREGORIAN
METHOD:PUBLISH
X-WR-CALNAME:Pulsschlag-Dorstfeld
X-ORIGINAL-URL:https://pulsschlag-dorstfeld.de
X-WR-CALDESC:Veranstaltungen für Pulsschlag-Dorstfeld
REFRESH-INTERVAL;VALUE=DURATION:PT1H
X-Robots-Tag:noindex
X-PUBLISHED-TTL:PT1H
BEGIN:VTIMEZONE
TZID:Europe/Berlin
BEGIN:DAYLIGHT
TZOFFSETFROM:+0100
TZOFFSETTO:+0200
TZNAME:CEST
DTSTART:20280326T010000
END:DAYLIGHT
BEGIN:STANDARD
TZOFFSETFROM:+0200
TZOFFSETTO:+0100
TZNAME:CET
DTSTART:20281029T010000
END:STANDARD
END:VTIMEZONE
BEGIN:VEVENT
DTSTART;TZID=Europe/Berlin:20280502T150000
DTEND;TZID=Europe/Berlin:20280502T180000
DTSTAMP:20260423T000242
CREATED:20240723T145719Z
LAST-MODIFIED:20251027T191531Z
UID:10003540-1840892400-1840903200@pulsschlag-dorstfeld.de
SUMMARY:Dienstagscafé im PULSSCHLAG Dorstfeld
DESCRIPTION:Jetzt jede Woche Dienstagscafé im PULSSCHLAG Bürgerhaus Dorstfeld von 15 bis 18 Uhr \nImmer mit vielen leckeren selbstgebackenen Torten und natürlich mit Jacobskaffee und Milch-Kakao\, Tee und Kaltgetränken. \nKommt vorbei im PULSSCHLAG am Vogelpothsweg 15 in Dorstfeld!
URL:https://pulsschlag-dorstfeld.de/event/dienstagscafe-im-pulsschlag-dorstfeld/2028-05-02/
LOCATION:Pulsschlag Dorstfeld\, Vogelpothsweg 15\, Dortmund\, Deutschland
ATTACH;FMTTYPE=image/jpeg:https://pulsschlag-dorstfeld.de/wp-content/uploads/2024/07/Kopie-von-Aussensprechstunde-Seniorenbuero-1609.jpg
END:VEVENT
BEGIN:VEVENT
DTSTART;TZID=Europe/Berlin:20280504T180000
DTEND;TZID=Europe/Berlin:20280504T180000
DTSTAMP:20260423T000242
CREATED:20241222T154118Z
LAST-MODIFIED:20251027T160619Z
UID:10004389-1841076000-1841076000@pulsschlag-dorstfeld.de
SUMMARY:Vereinskneipe
DESCRIPTION:Hier treffen sich Vereine\, um den Austausch zu suchen. Neben der einzigartigen Atmosphäre im Pulsschlag\, können die Besucher heiße und kalte Getränke genießen. Demnächst jeden Donnerstag im Bürgerhaus.
URL:https://pulsschlag-dorstfeld.de/event/vereinskneipe-2-2-2-2/2028-05-04/
LOCATION:Pulsschlag Dorstfeld\, Vogelpothsweg 15\, Dortmund\, Deutschland
ATTACH;FMTTYPE=image/jpeg:https://pulsschlag-dorstfeld.de/wp-content/uploads/2023/07/IMG_9151-scaled.jpeg
END:VEVENT
BEGIN:VEVENT
DTSTART;TZID=Europe/Berlin:20280509T150000
DTEND;TZID=Europe/Berlin:20280509T180000
DTSTAMP:20260423T000242
CREATED:20240723T145719Z
LAST-MODIFIED:20251027T191531Z
UID:10003541-1841497200-1841508000@pulsschlag-dorstfeld.de
SUMMARY:Dienstagscafé im PULSSCHLAG Dorstfeld
DESCRIPTION:Jetzt jede Woche Dienstagscafé im PULSSCHLAG Bürgerhaus Dorstfeld von 15 bis 18 Uhr \nImmer mit vielen leckeren selbstgebackenen Torten und natürlich mit Jacobskaffee und Milch-Kakao\, Tee und Kaltgetränken. \nKommt vorbei im PULSSCHLAG am Vogelpothsweg 15 in Dorstfeld!
URL:https://pulsschlag-dorstfeld.de/event/dienstagscafe-im-pulsschlag-dorstfeld/2028-05-09/
LOCATION:Pulsschlag Dorstfeld\, Vogelpothsweg 15\, Dortmund\, Deutschland
ATTACH;FMTTYPE=image/jpeg:https://pulsschlag-dorstfeld.de/wp-content/uploads/2024/07/Kopie-von-Aussensprechstunde-Seniorenbuero-1609.jpg
END:VEVENT
BEGIN:VEVENT
DTSTART;TZID=Europe/Berlin:20280511T180000
DTEND;TZID=Europe/Berlin:20280511T180000
DTSTAMP:20260423T000242
CREATED:20241222T154118Z
LAST-MODIFIED:20251027T160619Z
UID:10004390-1841680800-1841680800@pulsschlag-dorstfeld.de
SUMMARY:Vereinskneipe
DESCRIPTION:Hier treffen sich Vereine\, um den Austausch zu suchen. Neben der einzigartigen Atmosphäre im Pulsschlag\, können die Besucher heiße und kalte Getränke genießen. Demnächst jeden Donnerstag im Bürgerhaus.
URL:https://pulsschlag-dorstfeld.de/event/vereinskneipe-2-2-2-2/2028-05-11/
LOCATION:Pulsschlag Dorstfeld\, Vogelpothsweg 15\, Dortmund\, Deutschland
ATTACH;FMTTYPE=image/jpeg:https://pulsschlag-dorstfeld.de/wp-content/uploads/2023/07/IMG_9151-scaled.jpeg
END:VEVENT
BEGIN:VEVENT
DTSTART;TZID=Europe/Berlin:20280516T150000
DTEND;TZID=Europe/Berlin:20280516T180000
DTSTAMP:20260423T000242
CREATED:20240723T145719Z
LAST-MODIFIED:20251027T191531Z
UID:10003542-1842102000-1842112800@pulsschlag-dorstfeld.de
SUMMARY:Dienstagscafé im PULSSCHLAG Dorstfeld
DESCRIPTION:Jetzt jede Woche Dienstagscafé im PULSSCHLAG Bürgerhaus Dorstfeld von 15 bis 18 Uhr \nImmer mit vielen leckeren selbstgebackenen Torten und natürlich mit Jacobskaffee und Milch-Kakao\, Tee und Kaltgetränken. \nKommt vorbei im PULSSCHLAG am Vogelpothsweg 15 in Dorstfeld!
URL:https://pulsschlag-dorstfeld.de/event/dienstagscafe-im-pulsschlag-dorstfeld/2028-05-16/
LOCATION:Pulsschlag Dorstfeld\, Vogelpothsweg 15\, Dortmund\, Deutschland
ATTACH;FMTTYPE=image/jpeg:https://pulsschlag-dorstfeld.de/wp-content/uploads/2024/07/Kopie-von-Aussensprechstunde-Seniorenbuero-1609.jpg
END:VEVENT
BEGIN:VEVENT
DTSTART;TZID=Europe/Berlin:20280518T180000
DTEND;TZID=Europe/Berlin:20280518T180000
DTSTAMP:20260423T000242
CREATED:20241222T154118Z
LAST-MODIFIED:20251027T160619Z
UID:10004391-1842285600-1842285600@pulsschlag-dorstfeld.de
SUMMARY:Vereinskneipe
DESCRIPTION:Hier treffen sich Vereine\, um den Austausch zu suchen. Neben der einzigartigen Atmosphäre im Pulsschlag\, können die Besucher heiße und kalte Getränke genießen. Demnächst jeden Donnerstag im Bürgerhaus.
URL:https://pulsschlag-dorstfeld.de/event/vereinskneipe-2-2-2-2/2028-05-18/
LOCATION:Pulsschlag Dorstfeld\, Vogelpothsweg 15\, Dortmund\, Deutschland
ATTACH;FMTTYPE=image/jpeg:https://pulsschlag-dorstfeld.de/wp-content/uploads/2023/07/IMG_9151-scaled.jpeg
END:VEVENT
BEGIN:VEVENT
DTSTART;TZID=Europe/Berlin:20280523T150000
DTEND;TZID=Europe/Berlin:20280523T180000
DTSTAMP:20260423T000242
CREATED:20240723T145719Z
LAST-MODIFIED:20251027T191531Z
UID:10003543-1842706800-1842717600@pulsschlag-dorstfeld.de
SUMMARY:Dienstagscafé im PULSSCHLAG Dorstfeld
DESCRIPTION:Jetzt jede Woche Dienstagscafé im PULSSCHLAG Bürgerhaus Dorstfeld von 15 bis 18 Uhr \nImmer mit vielen leckeren selbstgebackenen Torten und natürlich mit Jacobskaffee und Milch-Kakao\, Tee und Kaltgetränken. \nKommt vorbei im PULSSCHLAG am Vogelpothsweg 15 in Dorstfeld!
URL:https://pulsschlag-dorstfeld.de/event/dienstagscafe-im-pulsschlag-dorstfeld/2028-05-23/
LOCATION:Pulsschlag Dorstfeld\, Vogelpothsweg 15\, Dortmund\, Deutschland
ATTACH;FMTTYPE=image/jpeg:https://pulsschlag-dorstfeld.de/wp-content/uploads/2024/07/Kopie-von-Aussensprechstunde-Seniorenbuero-1609.jpg
END:VEVENT
BEGIN:VEVENT
DTSTART;TZID=Europe/Berlin:20280525T180000
DTEND;TZID=Europe/Berlin:20280525T180000
DTSTAMP:20260423T000242
CREATED:20241222T154118Z
LAST-MODIFIED:20251027T160619Z
UID:10004392-1842890400-1842890400@pulsschlag-dorstfeld.de
SUMMARY:Vereinskneipe
DESCRIPTION:Hier treffen sich Vereine\, um den Austausch zu suchen. Neben der einzigartigen Atmosphäre im Pulsschlag\, können die Besucher heiße und kalte Getränke genießen. Demnächst jeden Donnerstag im Bürgerhaus.
URL:https://pulsschlag-dorstfeld.de/event/vereinskneipe-2-2-2-2/2028-05-25/
LOCATION:Pulsschlag Dorstfeld\, Vogelpothsweg 15\, Dortmund\, Deutschland
ATTACH;FMTTYPE=image/jpeg:https://pulsschlag-dorstfeld.de/wp-content/uploads/2023/07/IMG_9151-scaled.jpeg
END:VEVENT
BEGIN:VEVENT
DTSTART;TZID=Europe/Berlin:20280530T150000
DTEND;TZID=Europe/Berlin:20280530T180000
DTSTAMP:20260423T000242
CREATED:20240723T145719Z
LAST-MODIFIED:20251027T191531Z
UID:10003544-1843311600-1843322400@pulsschlag-dorstfeld.de
SUMMARY:Dienstagscafé im PULSSCHLAG Dorstfeld
DESCRIPTION:Jetzt jede Woche Dienstagscafé im PULSSCHLAG Bürgerhaus Dorstfeld von 15 bis 18 Uhr \nImmer mit vielen leckeren selbstgebackenen Torten und natürlich mit Jacobskaffee und Milch-Kakao\, Tee und Kaltgetränken. \nKommt vorbei im PULSSCHLAG am Vogelpothsweg 15 in Dorstfeld!
URL:https://pulsschlag-dorstfeld.de/event/dienstagscafe-im-pulsschlag-dorstfeld/2028-05-30/
LOCATION:Pulsschlag Dorstfeld\, Vogelpothsweg 15\, Dortmund\, Deutschland
ATTACH;FMTTYPE=image/jpeg:https://pulsschlag-dorstfeld.de/wp-content/uploads/2024/07/Kopie-von-Aussensprechstunde-Seniorenbuero-1609.jpg
END:VEVENT
END:VCALENDAR