BEGIN:VCALENDAR
VERSION:2.0
PRODID:-//Pulsschlag-Dorstfeld - ECPv6.8.2.1//NONSGML v1.0//EN
CALSCALE:GREGORIAN
METHOD:PUBLISH
X-ORIGINAL-URL:https://pulsschlag-dorstfeld.de
X-WR-CALDESC:Veranstaltungen für Pulsschlag-Dorstfeld
REFRESH-INTERVAL;VALUE=DURATION:PT1H
X-Robots-Tag:noindex
X-PUBLISHED-TTL:PT1H
BEGIN:VTIMEZONE
TZID:Europe/Berlin
BEGIN:DAYLIGHT
TZOFFSETFROM:+0100
TZOFFSETTO:+0200
TZNAME:CEST
DTSTART:20260329T010000
END:DAYLIGHT
BEGIN:STANDARD
TZOFFSETFROM:+0200
TZOFFSETTO:+0100
TZNAME:CET
DTSTART:20261025T010000
END:STANDARD
END:VTIMEZONE
BEGIN:VEVENT
DTSTART;TZID=Europe/Berlin:20260628T150000
DTEND;TZID=Europe/Berlin:20260628T170000
DTSTAMP:20260424T144424
CREATED:20260304T103921Z
LAST-MODIFIED:20260304T103921Z
UID:10004808-1782658800-1782666000@pulsschlag-dorstfeld.de
SUMMARY:Clowns „Bonnie und Ciccio“ bei „Bienenstich und Baklava“ am 28.06. im Bürgerhaus Pulsschlag
DESCRIPTION:Die Clowns „Bonnie und Ciccio“ sind die Gäste in der Juni-Ausgabe von „Bienenstich und Baklava“ am 28.06. im Bürgerhaus Pulsschlag. Sie nehmen die kleinen und großen Gäste mit in eine Welt aus Illusion und Wirklichkeit. Als Clowns sind sie Lebenskünstler die mit ihrer Fantasie und natürlich viel Humor Wege aus den absurdesten und komischsten Situationen finden. Mit „Bonnie und Ciccio“ ist Lachen garantiert! \nDas Café öffnet für alle um 15.00 Uhr mit Bienenstich\, Baklava und Waffeln. Die Aufführung beginnt um 15.45 Uhr\, der Eintritt ist frei und Hutspenden sind willkommen.
URL:https://pulsschlag-dorstfeld.de/event/clowns-bonnie-und-ciccio-bei-bienenstich-und-baklava-am-28-06-im-buergerhaus-pulsschlag/
ATTACH;FMTTYPE=image/jpeg:https://pulsschlag-dorstfeld.de/wp-content/uploads/2026/03/Bonnie-und-Ciccio_Juni-2026.jpg
END:VEVENT
END:VCALENDAR