BEGIN:VCALENDAR
VERSION:2.0
PRODID:-//Pulsschlag-Dorstfeld - ECPv6.8.2.1//NONSGML v1.0//EN
CALSCALE:GREGORIAN
METHOD:PUBLISH
X-WR-CALNAME:Pulsschlag-Dorstfeld
X-ORIGINAL-URL:https://pulsschlag-dorstfeld.de
X-WR-CALDESC:Veranstaltungen für Pulsschlag-Dorstfeld
REFRESH-INTERVAL;VALUE=DURATION:PT1H
X-Robots-Tag:noindex
X-PUBLISHED-TTL:PT1H
BEGIN:VTIMEZONE
TZID:Europe/Berlin
BEGIN:DAYLIGHT
TZOFFSETFROM:+0100
TZOFFSETTO:+0200
TZNAME:CEST
DTSTART:20260329T010000
END:DAYLIGHT
BEGIN:STANDARD
TZOFFSETFROM:+0200
TZOFFSETTO:+0100
TZNAME:CET
DTSTART:20261025T010000
END:STANDARD
END:VTIMEZONE
BEGIN:VEVENT
DTSTART;TZID=Europe/Berlin:20260517T150000
DTEND;TZID=Europe/Berlin:20260517T170000
DTSTAMP:20260424T124707
CREATED:20260304T103717Z
LAST-MODIFIED:20260304T103717Z
UID:10004807-1779030000-1779037200@pulsschlag-dorstfeld.de
SUMMARY:„Das Gold des Hasen“ bei „Bienenstich und Baklava“ am 17.05. im Bürgerhaus Pulsschlag
DESCRIPTION:Am 17.05. ist es wieder Zeit für „Bienenstich und Baklava“ im Bürgerhaus Pulsschlag in Dorstfeld. Zu Gast ist das „Kom’ma Theater“ mit dem Stück „Das Gold des Hasen“. Der Hase ist gestorben und in seinem Testament vererbt er eine Kiste Gold und sein Haus an den größten Angsthasen. Wer wird es schaffen: die Maus\, die Eule\, die Eintagsfliege oder der Karpfen? Oder ein Überraschungssieger und was ist der Gewinn wirklich wert? Ein großer Theaterspass mit zwei Menschen und vielen Tierfiguren. \nDas Café öffnet für alle um 15.00 Uhr\, die Vorstellung beginnt um 15.45 Uhr. Natürlich gibt es wieder Bienenstich und Baklava\, Kaffee und türkischen Tee. Der Eintritt ist frei\, Hutspenden sind willkommen.
URL:https://pulsschlag-dorstfeld.de/event/das-gold-des-hasen-bei-bienenstich-und-baklava-am-17-05-im-buergerhaus-pulsschlag/
ATTACH;FMTTYPE=image/png:https://pulsschlag-dorstfeld.de/wp-content/uploads/2026/03/Gold-des-Hasen_Mai-2026.png
END:VEVENT
END:VCALENDAR