BEGIN:VCALENDAR
VERSION:2.0
PRODID:-//Pulsschlag-Dorstfeld - ECPv6.8.2.1//NONSGML v1.0//EN
CALSCALE:GREGORIAN
METHOD:PUBLISH
X-WR-CALNAME:Pulsschlag-Dorstfeld
X-ORIGINAL-URL:https://pulsschlag-dorstfeld.de
X-WR-CALDESC:Veranstaltungen für Pulsschlag-Dorstfeld
REFRESH-INTERVAL;VALUE=DURATION:PT1H
X-Robots-Tag:noindex
X-PUBLISHED-TTL:PT1H
BEGIN:VTIMEZONE
TZID:Europe/Berlin
BEGIN:DAYLIGHT
TZOFFSETFROM:+0100
TZOFFSETTO:+0200
TZNAME:CEST
DTSTART:20260329T010000
END:DAYLIGHT
BEGIN:STANDARD
TZOFFSETFROM:+0200
TZOFFSETTO:+0100
TZNAME:CET
DTSTART:20261025T010000
END:STANDARD
END:VTIMEZONE
BEGIN:VEVENT
DTSTART;TZID=Europe/Berlin:20260425T190000
DTEND;TZID=Europe/Berlin:20260425T220000
DTSTAMP:20260425T034224
CREATED:20260416T123814Z
LAST-MODIFIED:20260416T123814Z
UID:10004817-1777143600-1777154400@pulsschlag-dorstfeld.de
SUMMARY:Hooked on an Feeling: Chorkonzert mit Manic Monday und Trallafitti
DESCRIPTION:Hooked on a Feeling!  Das stimmt\, man kann nach bestimmten Gefühlen süchtig werden – das Gefühl von Verliebtsein z. B. ist so eins.. Für uns aber auch das Gefühl\, was wir beim Singen haben:  Schwingungen spüren\, einen Rhythmus bilden\,  Gemeinschaft erleben. \n\nManic Monday und Trallafitti feiern dieses Gefühl an diesem Abend gemeinsam\, und ihr als Publikum werdet Teil dieser Gemeinschaft! \nIn der Pause gibt es wieder das fabelhafte Fingerfood Büffet! \nReservierungen der Tickets für die Abendkasse bitte anmelden bei:  manicmonday@mail.de \n  \nTicketpreise \n AK und VVK: 12€\, 6€ für Schüler*Innen \n  \n 
URL:https://pulsschlag-dorstfeld.de/event/hooked-on-an-feeling-chorkonzert-mit-manic-monday-und-trallafitti/
LOCATION:Pulsschlag Dorstfeld\, Vogelpothsweg 15\, Dortmund\, Deutschland
ATTACH;FMTTYPE=image/jpeg:https://pulsschlag-dorstfeld.de/wp-content/uploads/2026/04/Hooked-on-a-feeling-Story-1920-x-1080-px.jpg
END:VEVENT
END:VCALENDAR