BEGIN:VCALENDAR
VERSION:2.0
PRODID:-//Pulsschlag-Dorstfeld - ECPv6.8.2.1//NONSGML v1.0//EN
CALSCALE:GREGORIAN
METHOD:PUBLISH
X-WR-CALNAME:Pulsschlag-Dorstfeld
X-ORIGINAL-URL:https://pulsschlag-dorstfeld.de
X-WR-CALDESC:Veranstaltungen für Pulsschlag-Dorstfeld
REFRESH-INTERVAL;VALUE=DURATION:PT1H
X-Robots-Tag:noindex
X-PUBLISHED-TTL:PT1H
BEGIN:VTIMEZONE
TZID:Europe/Berlin
BEGIN:DAYLIGHT
TZOFFSETFROM:+0100
TZOFFSETTO:+0200
TZNAME:CEST
DTSTART:20260329T010000
END:DAYLIGHT
BEGIN:STANDARD
TZOFFSETFROM:+0200
TZOFFSETTO:+0100
TZNAME:CET
DTSTART:20261025T010000
END:STANDARD
END:VTIMEZONE
BEGIN:VEVENT
DTSTART;TZID=Europe/Berlin:20260207T200000
DTEND;TZID=Europe/Berlin:20260208T020000
DTSTAMP:20260424T144247
CREATED:20251208T202517Z
LAST-MODIFIED:20251208T202517Z
UID:10004774-1770494400-1770516000@pulsschlag-dorstfeld.de
SUMMARY:A Night in the Disco
DESCRIPTION:A Night in the Disco\n07.02.2026\nEinlass 20.00 Uhr\nEnde: 02.00 Uhr\n\nDie fantastischen 3 bringen das Discofieber zurück\, mit originalen Sounds der 70er und 80er. Ein Abend voller tanzbarer Klassiker\, funkelnder Beats und nostalgischer Stimmung\, wie man sie von den legendären Dancefloors kennt.\nErlebt eine energiegeladene Performance im Bürgerhaus “Pulsschlag” Dorstfeld\, die die Hits der Disco-Ära authentisch und mitreißend neu interpretiert. Ideal für alle\, die tanzen\, erinnern und feiern möchten.\nEin unkomplizierter\, fröhlicher Disco-Abend\, bei dem die Musik im Mittelpunkt steht und die Zeit kurzweilig verfliegt. Perfekt für Freunde der klassischen Discosounds und für alle\, die einen nostalgischen Partyabend suchen.\n\nKarten: 10 € im VVK über den Ticketshop (QR-Code) oder direkt im Bürgerhaus (zzgl. VVK-Gebühr)\, Abendkasse: 12 Euro\nDer Vorverkauf startet am 3.1.2026 um 9:30 Uhr\n\n\nQR-Code zum Ticketshop
URL:https://pulsschlag-dorstfeld.de/event/a-night-in-the-disco-2/
LOCATION:Pulsschlag Dorstfeld\, Vogelpothsweg 15\, Dortmund\, Deutschland
ATTACH;FMTTYPE=image/jpeg:https://pulsschlag-dorstfeld.de/wp-content/uploads/2025/12/A-Night-in-the-Disco-Plakat-2026-e1765225417508.jpg
END:VEVENT
BEGIN:VEVENT
DTSTART;TZID=Europe/Berlin:20260208T110000
DTEND;TZID=Europe/Berlin:20260208T130000
DTSTAMP:20260424T144247
CREATED:20260119T151646Z
LAST-MODIFIED:20260119T152230Z
UID:10004800-1770548400-1770555600@pulsschlag-dorstfeld.de
SUMMARY:Melange im PULSSCHLAG: „Aus der Reihe tanzen ist auch eine Kunst“ - Lesetainment mit Lioba Albus
DESCRIPTION:„Aus der Reihe tanzen ist auch eine Kunst“\nLesetainment mit Lioba Albus \nDie Dortmunder Kabarettistin liest aus ihrem neuesten Roman. Wer sie bereits aus ihren mittlerweile über 30 Jahren auf Deutschlands Kabarettbühnen und aus diversen TV-Sendungen kennt\, ahnt\, dass von ihr keine trockene Wasserglaslesung zu erwarten ist. Immer wieder mischt sich auch ihre bekannte Kultfigur Mia Mittelkötter ein ins Geschehen\, kommentiert und schwadroniert\, wie ihr sauerländischer Schnabel gewachsen ist. Eine höchst unterhaltsame Mischung aus Lesung und Kabarett.\nLioba Albus\, geb. in Attendorn\, lebt in Dortmund. Als gelernte Schauspielerin zog es sie vor dreißig Jahren auf Deutschlands Kabarettbühnen. 12 weitere Soloprogramme folgten bis heute. Gleichzeitig arbeitete sie bei Funk und Fernsehen. U.a. moderierte sie die legendäre Radiosendung „Unterhaltung am Wochenende“ neben Größen wie Harald Schmidt\, Elke Heidenreich\, Hanns-Dieter Hüsch und Konrad Beikircher. In diversen Satirefernsehsendungen wie den „Mitternachtsspitzen“\, „Blond am Freitag“\, „Missfits und Verwandte“ und der „Ladiesnight“ war und ist sie zu Gast. \nVVK direkt über uns (Telefon: 0231/70044149 oder info@pulsschlag-dorstfeld.de \nEintritt: 15\,- Euro
URL:https://pulsschlag-dorstfeld.de/event/aus-der-reihe-tanzen-ist-auch-eine-kunst-lesetainment-mit-lioba-albus/
LOCATION:Pulsschlag Dorstfeld\, Vogelpothsweg 15\, Dortmund\, Deutschland
ATTACH;FMTTYPE=image/jpeg:https://pulsschlag-dorstfeld.de/wp-content/uploads/2026/01/Banner-Melange-Q126-1.jpg
END:VEVENT
END:VCALENDAR