BEGIN:VCALENDAR
VERSION:2.0
PRODID:-//Pulsschlag-Dorstfeld - ECPv6.8.2.1//NONSGML v1.0//EN
CALSCALE:GREGORIAN
METHOD:PUBLISH
X-ORIGINAL-URL:https://pulsschlag-dorstfeld.de
X-WR-CALDESC:Veranstaltungen für Pulsschlag-Dorstfeld
REFRESH-INTERVAL;VALUE=DURATION:PT1H
X-Robots-Tag:noindex
X-PUBLISHED-TTL:PT1H
BEGIN:VTIMEZONE
TZID:Europe/Berlin
BEGIN:DAYLIGHT
TZOFFSETFROM:+0100
TZOFFSETTO:+0200
TZNAME:CEST
DTSTART:20250330T010000
END:DAYLIGHT
BEGIN:STANDARD
TZOFFSETFROM:+0200
TZOFFSETTO:+0100
TZNAME:CET
DTSTART:20251026T010000
END:STANDARD
END:VTIMEZONE
BEGIN:VEVENT
DTSTART;TZID=Europe/Berlin:20251214T110000
DTEND;TZID=Europe/Berlin:20251214T130000
DTSTAMP:20260424T144832
CREATED:20250923T120151Z
LAST-MODIFIED:20250923T120151Z
UID:10004576-1765710000-1765717200@pulsschlag-dorstfeld.de
SUMMARY:Melange im PULSSCHLAG: (K)einmal werden wir noch wach! Böse Lieder und Geschichten mit Bastian Kopp und Thomas Eicher
DESCRIPTION:Von der „Weihnachtsschimpfe“ über den „Weihnachtsmann auf der Reeperbahn“ bis hin zum Amoklauf auf dem Weihnachtsmarkt bieten Bastian Kopp und Thomas Eicher einiges auf\, um die schwarzen Seiten des frohen Festes hervorzukehren. \nVeranstaltungsbeginn: 11 Uhr (Ticket: 15 Euro) \nFrühstück: 10 Uhr (Kosten: 10 Euro) \n\n\n\nVorverkauf: \n\nDirekt im PULSSCHLAG\n\n\n\n\nTelefon: 0231/70044149\n\n\n\n\noder: info@pulsschlag-dorstfeld.de
URL:https://pulsschlag-dorstfeld.de/event/melange-im-pulsschlag-keinmal-werden-wir-noch-wach-boese-lieder-und-geschichten-mit-bastian-kopp-und-thomas-eicher/
LOCATION:Pulsschlag Dorstfeld\, Vogelpothsweg 15\, Dortmund\, Deutschland
ATTACH;FMTTYPE=image/jpeg:https://pulsschlag-dorstfeld.de/wp-content/uploads/2025/09/Eicher-Kopp-20221113_133058-scaled.jpg
END:VEVENT
BEGIN:VEVENT
DTSTART;TZID=Europe/Berlin:20251214T150000
DTEND;TZID=Europe/Berlin:20251214T180000
DTSTAMP:20260424T144832
CREATED:20251001T082029Z
LAST-MODIFIED:20251127T114552Z
UID:10004577-1765724400-1765735200@pulsschlag-dorstfeld.de
SUMMARY:Bienenstich & Baklava: Musical "Blauland"
DESCRIPTION:Die Reihe „Bienenstich und Baklava“ im Bürgerhaus Pulsschlag lädt am 14.12. zur letzten Veranstaltung des Jahres ein. Für die Kinder führt diesmal der 5. Jahrgang des Reinoldus- und Schillergymnasiums aus Dorstfeld das Musical „Blauland“ auf. Es spielt im gleichnamigen Land und dort tragen alle Menschen blaue Hüte. Die Einwohner von Blauland sind die Fizzli-Puzzlis und in ihrem Land ist einfach alles blau! Doch dann schickt der geheimnisvolle Farbenkönig nachts eine rote und dann eine gelbe Kugel nach Blauland. Zunächst sind die Fizzli-Puzzlis entsetzt\, doch nach und nach merken sie: bunt sein ist schön und Unterschiede machen das Leben reicher. \nWir freuen uns sehr über die Zusammenarbeit mit dem Reinoldus- und Schillergymnasium und sind gespannt auf die Aufführung der Kinder! \nZur letzten Veranstaltung im Jahr wird aus „Bienenstich und Baklava“ einmalig „Stollen und Waffeln“. Kinder bekommen eine Waffel am Stiel und Erwachsenen ein Stück Stollen kostenlos. Das Café öffnet wie immer für alle um 15.00 Uhr\, das Musical beginnt um 15.45 Uhr. Wegen einer nachfolgenden Feier schließen wir schon um 16.30 Uhr. Der Eintritt ist wie immer frei\, Hutspenden sind willkommen.
URL:https://pulsschlag-dorstfeld.de/event/bienenstich-baklava-musical-blauland/
LOCATION:Pulsschlag Dorstfeld\, Vogelpothsweg 15\, Dortmund\, Deutschland
CATEGORIES:Bienenstich und Baklava
ATTACH;FMTTYPE=image/png:https://pulsschlag-dorstfeld.de/wp-content/uploads/2025/10/BB_14.12.2025.png
END:VEVENT
BEGIN:VEVENT
DTSTART;TZID=Europe/Berlin:20251214T150000
DTEND;TZID=Europe/Berlin:20251214T180000
DTSTAMP:20260424T144832
CREATED:20251203T104039Z
LAST-MODIFIED:20251203T104040Z
UID:10004490-1765724400-1765735200@pulsschlag-dorstfeld.de
SUMMARY:Repaircafé - Einfach mal selber machen!
DESCRIPTION:Repaircafé – Gemeinsam reparieren\, statt wegwerfen\nDeine Kaffeemaschine hat den Geist aufgegeben? Die Jeans hat ein Loch und das Handy tut auch nicht mehr\, was es soll? \nDann bring deine defekten Lieblingsstücke vorbei und erhalte bei Kaffee und Kuchen Hilfe von unseren ehrenamtlichen Expert*innen.
URL:https://pulsschlag-dorstfeld.de/event/repaircafe-einfach-mal-selber-machen-4/
LOCATION:Pulsschlag Dorstfeld\, Vogelpothsweg 15\, Dortmund\, Deutschland
CATEGORIES:Repaircafé
ATTACH;FMTTYPE=image/jpeg:https://pulsschlag-dorstfeld.de/wp-content/uploads/2025/01/Faellt-aus_Beitragsbild_2025_Repaircafe.jpg
END:VEVENT
END:VCALENDAR