BEGIN:VCALENDAR
VERSION:2.0
PRODID:-//Pulsschlag-Dorstfeld - ECPv6.8.2.1//NONSGML v1.0//EN
CALSCALE:GREGORIAN
METHOD:PUBLISH
X-ORIGINAL-URL:https://pulsschlag-dorstfeld.de
X-WR-CALDESC:Veranstaltungen für Pulsschlag-Dorstfeld
REFRESH-INTERVAL;VALUE=DURATION:PT1H
X-Robots-Tag:noindex
X-PUBLISHED-TTL:PT1H
BEGIN:VTIMEZONE
TZID:Europe/Berlin
BEGIN:DAYLIGHT
TZOFFSETFROM:+0100
TZOFFSETTO:+0200
TZNAME:CEST
DTSTART:20240331T010000
END:DAYLIGHT
BEGIN:STANDARD
TZOFFSETFROM:+0200
TZOFFSETTO:+0100
TZNAME:CET
DTSTART:20241027T010000
END:STANDARD
END:VTIMEZONE
BEGIN:VEVENT
DTSTART;TZID=Europe/Berlin:20241025T180000
DTEND;TZID=Europe/Berlin:20241026T180000
DTSTAMP:20260424T015105
CREATED:20241010T143402Z
LAST-MODIFIED:20241010T143456Z
UID:10003618-1729879200-1729965600@pulsschlag-dorstfeld.de
SUMMARY:Schaurig schönes Dorstfeld - Halloween für Kinder im PULSSCHLAG Bürgerhaus Dorstfeld
DESCRIPTION:Kürbis kommt hier höchstens in die Suppe: Halloween wird es im Bürgerhaus Dorstfeld mal so richtig gruselig.  \nFreitag\, 25. Oktober\, und Samstag\, 26. Oktober\, tanzen schaurige Kreaturen zu gespenstischen Beats. Der Freitag ist für Jugendliche ab 13 Jahren\, am Samstag feiern Kinder ab 6 Jahren mit ihren Familien. \nZwei schaurig schöne Tage stehen stehen den Besuchern des Bürgerhaus Pulsschlag in Dorstfeld mit dem Hans-Werner-Meyer-Treff bevor. Denn beide Locations werden durch die Mitarbeiter*innen vieler Jugendfreizeitstätten in ein Gruselkabinett verwandelt – mit Escape Room und Grusel-Parcour. \nFür alle Jugendlichen ab 13 Jahren öffnet das Bürgerhaus Freitag\, 25. Oktober\, von 18 bis 22 Uhr seine Tore zu einer unvergesslichen Halloween-Nacht. Die Highlights des Abends: Inklusive Disko\, Schminkstation (werde zur schaurigsten Kreatur der Nacht!)\, Grusel-Labyrinth und Kostümwettbewerb: das beste Halloween-Outfit gewinnt tolle Preise. \nAm Samstag (26. Oktober) wird sich im Bürgerhaus Dorstfeld familienfreundlich gegruselt. Von 14 bis 18 Uhr gibt es spannende Aktionen und gruselige Überraschungen. \nDer Ort des Schreckens: Hans-Werner-Meyer-Treff\, Bürgerhaus Pulsschlag in Dorstfeld\, Vogelpothsweg 15\, 44149 Dortmund.
URL:https://pulsschlag-dorstfeld.de/event/schaurig-schoenes-dorstfeld-halloween-im-pulsschlag-buergerhaus-dorstfeld/
LOCATION:Pulsschlag Dorstfeld\, Vogelpothsweg 15\, Dortmund\, Deutschland
ATTACH;FMTTYPE=image/jpeg:https://pulsschlag-dorstfeld.de/wp-content/uploads/2024/10/IMG_9921-scaled.jpeg
END:VEVENT
END:VCALENDAR