BEGIN:VCALENDAR
VERSION:2.0
PRODID:-//Pulsschlag-Dorstfeld - ECPv6.8.2.1//NONSGML v1.0//EN
CALSCALE:GREGORIAN
METHOD:PUBLISH
X-WR-CALNAME:Pulsschlag-Dorstfeld
X-ORIGINAL-URL:https://pulsschlag-dorstfeld.de
X-WR-CALDESC:Veranstaltungen für Pulsschlag-Dorstfeld
REFRESH-INTERVAL;VALUE=DURATION:PT1H
X-Robots-Tag:noindex
X-PUBLISHED-TTL:PT1H
BEGIN:VTIMEZONE
TZID:Europe/Berlin
BEGIN:DAYLIGHT
TZOFFSETFROM:+0100
TZOFFSETTO:+0200
TZNAME:CEST
DTSTART:20240331T010000
END:DAYLIGHT
BEGIN:STANDARD
TZOFFSETFROM:+0200
TZOFFSETTO:+0100
TZNAME:CET
DTSTART:20241027T010000
END:STANDARD
END:VTIMEZONE
BEGIN:VEVENT
DTSTART;TZID=Europe/Berlin:20241012T200000
DTEND;TZID=Europe/Berlin:20241013T020000
DTSTAMP:20260424T003249
CREATED:20240813T073908Z
LAST-MODIFIED:20240823T084912Z
UID:10003287-1728763200-1728784800@pulsschlag-dorstfeld.de
SUMMARY:Orpheumparty im PULSSCHLAG Dorstfeld
DESCRIPTION:ORPHEUM-Party im PULSSCHLAG Dorstfeld \n12. Oktober 2024 ab 20 Uhr im PULSSCHLAG Bürgerhaus Dorstfeld – Mit echtem Venyl und allen ORPHEUM Hits von den original ORPHEUM-DJs – Andreas Herzig und Gordon Vogel legen auf – Foodtruck direkt vor der Tür ab 19 Uhr \nMit bewährter Lichtanlage geht’s in die diesjährige ORPHEUM-Party im PULSSCHLAG-Dorstfeld \nNeu: Foodtruck mit leckeren Angeboten ab 19 Uhr \nMoving Lights und Discokugel schaffen ab jetzt eine noch tollere Atmosphere im PULSSCHLAG Bürgerhaus. 80er und 90er-Tanzveranstaltungen boomen bei uns und bieten für die Genießer-Generationen die jeweils angemessene Musik und Stimmung.  \nFrisches Kronen-Puls vom Fass\, Mixgetränke aller Art und Antis werden ergänzt durch Wein\, Sekt und Aperolmix stehen gekühlt bereit. Kaffee-Spezialitäten von Jacobs in Gross und Klein wärmen auf. \nNur gegen Bares gibt es maximal je vier Karten zu 10 € im Vorverkauf ab Mitte September im PULSSCHLAG Bürgerhaus Dorstfeld\, Vogelpothsweg 15 und ab 9:30 Uhr bei Radio Breitenstein\, Wittener Straße 59. Dazu einige wenige Karten an der Abendkasse für 12 €\, damit mehr Gäste eine Chance haben! \nEs stehen viele Parkplätze vor dem Haus zur Verfügung. Bitte den Anweisungen der Ordner folgen und sparsam parken. Die Rettungswege und taktilen Leitlinien sind unbedingt freizuhalten. \nDas PULSSCHLAG Bürgerhaus Dorstfeld in der ehemaligen Waschkaue der Zeche Dorstfeld\, Schacht 2/3 ist eine Gemeinnützige Genossenschaft und fördert die Demokratie und Kultur in Dorstfeld. Es gilt die aushängende Hausordnung. Gäste akzeptieren beim Betreten die Foto- und Videoaufnahmen des Veranstalters zu Werbezwecken des Hauses. \nwww.PULSSCHLAG-Dorstfeld.de
URL:https://pulsschlag-dorstfeld.de/event/orpheumparty-im-pulsschlag-dorstfeld-2/
LOCATION:Pulsschlag Dorstfeld\, Vogelpothsweg 15\, Dortmund\, Deutschland
ATTACH;FMTTYPE=image/jpeg:https://pulsschlag-dorstfeld.de/wp-content/uploads/2024/08/07f9918e-7804-4c20-9f95-933e277bfca8.jpeg
END:VEVENT
END:VCALENDAR