BEGIN:VCALENDAR
VERSION:2.0
PRODID:-//Pulsschlag-Dorstfeld - ECPv6.8.2.1//NONSGML v1.0//EN
CALSCALE:GREGORIAN
METHOD:PUBLISH
X-WR-CALNAME:Pulsschlag-Dorstfeld
X-ORIGINAL-URL:https://pulsschlag-dorstfeld.de
X-WR-CALDESC:Veranstaltungen für Pulsschlag-Dorstfeld
REFRESH-INTERVAL;VALUE=DURATION:PT1H
X-Robots-Tag:noindex
X-PUBLISHED-TTL:PT1H
BEGIN:VTIMEZONE
TZID:Europe/Berlin
BEGIN:DAYLIGHT
TZOFFSETFROM:+0100
TZOFFSETTO:+0200
TZNAME:CEST
DTSTART:20240331T010000
END:DAYLIGHT
BEGIN:STANDARD
TZOFFSETFROM:+0200
TZOFFSETTO:+0100
TZNAME:CET
DTSTART:20241027T010000
END:STANDARD
END:VTIMEZONE
BEGIN:VEVENT
DTSTART;TZID=Europe/Berlin:20240831T190000
DTEND;TZID=Europe/Berlin:20240901T010000
DTSTAMP:20260424T014837
CREATED:20240813T073612Z
LAST-MODIFIED:20240816T173712Z
UID:10003286-1725130800-1725152400@pulsschlag-dorstfeld.de
SUMMARY:Gordi & Friends - Tanzmusik
DESCRIPTION:Funk\, Soul\, Disco\, Rock\, Pop und Wave mit Gordon (Orpheum) und Markus (Las Vegas).
URL:https://pulsschlag-dorstfeld.de/event/gordon-friends-tanzmusik/
LOCATION:Pulsschlag Dorstfeld\, Vogelpothsweg 15\, Dortmund\, Deutschland
ATTACH;FMTTYPE=image/jpeg:https://pulsschlag-dorstfeld.de/wp-content/uploads/2024/08/ff3ba4a6-0f39-4bca-95e0-1e0ed718c717.jpeg
END:VEVENT
BEGIN:VEVENT
DTSTART;TZID=Europe/Berlin:20240901T150000
DTEND;TZID=Europe/Berlin:20240901T180000
DTSTAMP:20260424T014837
CREATED:20240403T111623Z
LAST-MODIFIED:20240722T105408Z
UID:10002831-1725202800-1725213600@pulsschlag-dorstfeld.de
SUMMARY:Bienenstich und Baklava - Die Bremer Stadtmusikanten
DESCRIPTION:„Die Bremer Stadtmusikanten“ mit dem Figurentheater „Lille Kartofler“ in der Veranstaltungsreihe „Bienenstich und Baklava“ am 01.09. um 15.00 Uhr im Bürgerhaus „Pulsschlag“ in Dortmund Dorstfeld \nNach den Sommerferien meldet sich die beliebte Veranstaltungsreihe „Bienenstich und Baklava“ aus den Sommerferien zurück. Für die Kinder spielt das Figurentheater „Lille Kartofler“ ihr Stück „Die Bremer Stadtmusikanten“.  \nWer kennt nicht die Geschichte vom Esel\, dem Hund\, der Katze und dem Hahn die ihren unfreundlichen Besitzern entfliehen und gemeinsam als Band in Bremen Stadtmusikanten werden wollen? Gespielt mit fast lebensgroßen Textilfiguren die offen vor und auch zwischen den Kindern geführt werden in einer spannenden und auch humorvollen Aufführung für Kinder und Junggebliebene ab 3 Jahren. Für alle Besucher*innen gibt es im Café Bienenstich\, Baklava\, Kuchen\, Tee und Kaffee. \nDas Café öffnet um 15.00 Uhr\, die Vorstellung beginnt um 15.45 Uhr\, der Eintritt ist frei. Das Bürgerhaus „Pulsschlag“ ist in Dortmund-Dorstfeld am Vogelpothsweg 15\, aktuelle Informationen findet man auf der Homepage www.pulsschlag-dortmund.de .  \nDie Aufführung wird gefördert aus Mitteln der Sparkasse Dortmund und des Kulturbüros der Stadt Dortmund. Weitere Informationen zu „Lille Kartofler“ und Fotos zum Download auf der Homepage www.lille-kartofler-figurentheater.de .
URL:https://pulsschlag-dorstfeld.de/event/bienenstich-und-baklava-11/
LOCATION:Pulsschlag Dorstfeld\, Vogelpothsweg 15\, Dortmund\, Deutschland
ATTACH;FMTTYPE=image/jpeg:https://pulsschlag-dorstfeld.de/wp-content/uploads/2024/07/lille_bremer02.jpeg
END:VEVENT
END:VCALENDAR