BEGIN:VCALENDAR
VERSION:2.0
PRODID:-//Pulsschlag-Dorstfeld - ECPv6.8.2.1//NONSGML v1.0//EN
CALSCALE:GREGORIAN
METHOD:PUBLISH
X-ORIGINAL-URL:https://pulsschlag-dorstfeld.de
X-WR-CALDESC:Veranstaltungen für Pulsschlag-Dorstfeld
REFRESH-INTERVAL;VALUE=DURATION:PT1H
X-Robots-Tag:noindex
X-PUBLISHED-TTL:PT1H
BEGIN:VTIMEZONE
TZID:Europe/Berlin
BEGIN:DAYLIGHT
TZOFFSETFROM:+0100
TZOFFSETTO:+0200
TZNAME:CEST
DTSTART:20230326T010000
END:DAYLIGHT
BEGIN:STANDARD
TZOFFSETFROM:+0200
TZOFFSETTO:+0100
TZNAME:CET
DTSTART:20231029T010000
END:STANDARD
END:VTIMEZONE
BEGIN:VEVENT
DTSTART;TZID=Europe/Berlin:20230609T140000
DTEND;TZID=Europe/Berlin:20230609T200000
DTSTAMP:20260423T143433
CREATED:20230504T154203Z
LAST-MODIFIED:20230504T154203Z
UID:10000286-1686319200-1686340800@pulsschlag-dorstfeld.de
SUMMARY:Tag der Vereine mit vielen interessanten Ständen diesmal auf der PULSSCHLAG-Terrasse
DESCRIPTION:
URL:https://pulsschlag-dorstfeld.de/event/tag-der-vereine-mit-vielen-interessanten-staenden-diesmal-auf-der-pulsschlag-terrasse/
LOCATION:Pulsschlag Dorstfeld\, Vogelpothsweg 15\, Dortmund\, Deutschland
END:VEVENT
BEGIN:VEVENT
DTSTART;TZID=Europe/Berlin:20230609T180000
DTEND;TZID=Europe/Berlin:20230610T020000
DTSTAMP:20260423T143433
CREATED:20230504T154022Z
LAST-MODIFIED:20230504T155802Z
UID:10000285-1686333600-1686362400@pulsschlag-dorstfeld.de
SUMMARY:Interessengemeinschaft Dorstfelder Vereine\, Tanz in der Waschkaue
DESCRIPTION:
URL:https://pulsschlag-dorstfeld.de/event/interessengemeinschaft-dorstfelder-vereine-tanz-in-der-waschkaue/
LOCATION:Pulsschlag Dorstfeld\, Vogelpothsweg 15\, Dortmund\, Deutschland
END:VEVENT
END:VCALENDAR